BEGIN:VCALENDAR
VERSION:2.0
PRODID:-//Scorched Earth H.O.G. Chapter #5486 - ECPv6.15.20//NONSGML v1.0//EN
CALSCALE:GREGORIAN
METHOD:PUBLISH
X-WR-CALNAME:Scorched Earth H.O.G. Chapter #5486
X-ORIGINAL-URL:https://scorchedearthhog.com
X-WR-CALDESC:Events for Scorched Earth H.O.G. Chapter #5486
REFRESH-INTERVAL;VALUE=DURATION:PT1H
X-Robots-Tag:noindex
X-PUBLISHED-TTL:PT1H
BEGIN:VTIMEZONE
TZID:America/Phoenix
BEGIN:STANDARD
TZOFFSETFROM:-0700
TZOFFSETTO:-0700
TZNAME:MST
DTSTART:20240101T000000
END:STANDARD
END:VTIMEZONE
BEGIN:VEVENT
DTSTART;TZID=America/Phoenix:20260228T093000
DTEND;TZID=America/Phoenix:20260228T143000
DTSTAMP:20260425T075757
CREATED:20260128T161929Z
LAST-MODIFIED:20260128T161929Z
UID:10000587-1772271000-1772289000@scorchedearthhog.com
SUMMARY:Ride to the Stacked Enchilada
DESCRIPTION:[vc_row][vc_column][vc_column_text css_animation=”fadeIn” css=””] \n\nRoad Captain: Ted “Boots” Kapner\nDeparture Briefing: 0945 hrs\nDeparture Time (KSU): 1000 hrs\nDeparture Point: Denny’s Parking Lot at Gail Gardiner & Iron Springs\nDistance (est): 62 miles\nTime (est): 1 hr-20 min\n\n[/vc_column_text][/vc_column][/vc_row]
URL:https://scorchedearthhog.com/event/ride-to-the-stacked-enchilada-3/
LOCATION:The Stacked Enchilada\, 107 Main St\, Bagdad\, 86321\, United States
ATTACH;FMTTYPE=image/jpeg:https://scorchedearthhog.com/wp-content/uploads/2025/01/The-Stacked-Enchilada.jpg
END:VEVENT
BEGIN:VEVENT
DTSTART;TZID=America/Phoenix:20260124T100000
DTEND;TZID=America/Phoenix:20260124T140000
DTSTAMP:20260425T075757
CREATED:20260106T181411Z
LAST-MODIFIED:20260121T143033Z
UID:10000581-1769248800-1769263200@scorchedearthhog.com
SUMMARY:Ride to the Stacked Enchilada
DESCRIPTION:[vc_row][vc_column][vc_column_text css=””] \nThis Saturday’s Ride to the Stacked Enchilada in Bagdad is CANCELLED on account of the weather.\nSaturday’s Weather Forecast\nSnow showers likely\, possibly mixed with rain. Mostly cloudy\, with a high near 50. Southwest wind 6 to 9 mph becoming northwest in the afternoon. Winds could gust as high as 15 mph. Chance of precipitation is 60%.[/vc_column_text][vc_column_text css_animation=”fadeIn” css=””] \n\nRoad Captain: Ted Kapner\nDeparture Briefing: 1015 hrs\nDeparture Time (KSU): 1030 hrs\nDeparture Point: Denny’s\, Gail Gardner\, Prescott\n\n[/vc_column_text][/vc_column][/vc_row]
URL:https://scorchedearthhog.com/event/ride-to-the-stacked-enchilada-2/
LOCATION:The Stacked Enchilada\, 107 Main St\, Bagdad\, 86321\, United States
ATTACH;FMTTYPE=image/jpeg:https://scorchedearthhog.com/wp-content/uploads/2025/01/The-Stacked-Enchilada.jpg
END:VEVENT
BEGIN:VEVENT
DTSTART;TZID=America/Phoenix:20250308T093000
DTEND;TZID=America/Phoenix:20250308T150000
DTSTAMP:20260425T075757
CREATED:20250227T160621Z
LAST-MODIFIED:20250227T160621Z
UID:10000168-1741426200-1741446000@scorchedearthhog.com
SUMMARY:Baggers to Bagdad The Stacked Enchilada
DESCRIPTION:[vc_row][vc_column][vc_column_text css=””] \n\nRoad Captain: Wayne Schwetje\nDeparture Briefing: 0945 hrs\nDeparture Time (KSU): 1000 hrs\nDeparture Point: Denny’s on Gail Gardner\, Prescott\nDistance (est): 61 miles\nTime (est): 1 hr-52 min\n\nWe will boogie on down to Bagdad to partake of some fine Mexican fare. \n[/vc_column_text][/vc_column][/vc_row]
URL:https://scorchedearthhog.com/event/baggers-to-bagdad-the-stacked-enchilada/
LOCATION:The Stacked Enchilada\, 107 Main St\, Bagdad\, 86321\, United States
ATTACH;FMTTYPE=image/jpeg:https://scorchedearthhog.com/wp-content/uploads/2025/01/The-Stacked-Enchilada.jpg
END:VEVENT
BEGIN:VEVENT
DTSTART;TZID=America/Phoenix:20250201T100000
DTEND;TZID=America/Phoenix:20250201T140000
DTSTAMP:20260425T075757
CREATED:20250131T174723Z
LAST-MODIFIED:20250131T174723Z
UID:10000159-1738404000-1738418400@scorchedearthhog.com
SUMMARY:Ride to the Stacked Enchilada
DESCRIPTION:[vc_row][vc_column][vc_column_text css=””] \n\nRoad Captain: Wayne Schwetje\nDeparture Briefing: 1015 hrs\nDeparture Time (KSU): 1030 hrs\nDeparture Point: Denny’s\, Gail Gardner\, Prescott\nNote: Weather Permitting\n\n[/vc_column_text][/vc_column][/vc_row]
URL:https://scorchedearthhog.com/event/ride-to-the-stacked-enchilada/
LOCATION:The Stacked Enchilada\, 107 Main St\, Bagdad\, 86321\, United States
ATTACH;FMTTYPE=image/jpeg:https://scorchedearthhog.com/wp-content/uploads/2025/01/The-Stacked-Enchilada.jpg
END:VEVENT
END:VCALENDAR