BEGIN:VCALENDAR
VERSION:2.0
PRODID:-//Scorched Earth H.O.G. Chapter #5486 - ECPv6.15.20//NONSGML v1.0//EN
CALSCALE:GREGORIAN
METHOD:PUBLISH
X-WR-CALNAME:Scorched Earth H.O.G. Chapter #5486
X-ORIGINAL-URL:https://scorchedearthhog.com
X-WR-CALDESC:Events for Scorched Earth H.O.G. Chapter #5486
REFRESH-INTERVAL;VALUE=DURATION:PT1H
X-Robots-Tag:noindex
X-PUBLISHED-TTL:PT1H
BEGIN:VTIMEZONE
TZID:America/Phoenix
BEGIN:STANDARD
TZOFFSETFROM:-0700
TZOFFSETTO:-0700
TZNAME:MST
DTSTART:20250101T000000
END:STANDARD
END:VTIMEZONE
BEGIN:VEVENT
DTSTART;TZID=America/Phoenix:20260214T093000
DTEND;TZID=America/Phoenix:20260214T130000
DTSTAMP:20260423T034211
CREATED:20260128T161037Z
LAST-MODIFIED:20260128T161037Z
UID:10000585-1771061400-1771074000@scorchedearthhog.com
SUMMARY:Lunch Ride to The Forge in Skull Valley
DESCRIPTION:[vc_row][vc_column][vc_column_text css_animation=”fadeIn” css=””] \n\nRoad Captain: Dave Pucillo\nDeparture Briefing: 0945 hrs\nDeparture Time (KSU): 1000 hrs\nDeparture Point: Denny’s Parking Lot at Gail Gardiner & Iron Springs\nDistance (est): 20 miles\nTime (est): 30 min\n\n[/vc_column_text][/vc_column][/vc_row]
URL:https://scorchedearthhog.com/event/lunch-ride-to-the-forge-in-skull-valley/
LOCATION:The Forge\, 2999 Iron Springs Rd\, Skull Valley\, 86338\, United States
ATTACH;FMTTYPE=image/webp:https://scorchedearthhog.com/wp-content/uploads/2026/02/The-Forge.webp
END:VEVENT
END:VCALENDAR