BEGIN:VCALENDAR
VERSION:2.0
PRODID:-//Scorched Earth H.O.G. Chapter #5486 - ECPv6.15.20//NONSGML v1.0//EN
CALSCALE:GREGORIAN
METHOD:PUBLISH
X-WR-CALNAME:Scorched Earth H.O.G. Chapter #5486
X-ORIGINAL-URL:https://scorchedearthhog.com
X-WR-CALDESC:Events for Scorched Earth H.O.G. Chapter #5486
REFRESH-INTERVAL;VALUE=DURATION:PT1H
X-Robots-Tag:noindex
X-PUBLISHED-TTL:PT1H
BEGIN:VTIMEZONE
TZID:America/Phoenix
BEGIN:STANDARD
TZOFFSETFROM:-0700
TZOFFSETTO:-0700
TZNAME:MST
DTSTART:20240101T000000
END:STANDARD
END:VTIMEZONE
BEGIN:VEVENT
DTSTART;TZID=America/Phoenix:20260117T103000
DTEND;TZID=America/Phoenix:20260117T140000
DTSTAMP:20260421T042414
CREATED:20260106T175045Z
LAST-MODIFIED:20260107T001738Z
UID:10000580-1768645800-1768658400@scorchedearthhog.com
SUMMARY:Ride to Roadrunner Restaurant & Saloon in New River
DESCRIPTION:[vc_row][vc_column][vc_column_text css_animation=”fadeIn” css=””] \n\nRoad Captain: Dave Soto\nDeparture Briefing: 1045 hrs\nDeparture Time (KSU): 1100 hrs\nDeparture Point: Legend’s H-D\n\n[/vc_column_text][/vc_column][/vc_row]
URL:https://scorchedearthhog.com/event/ride-to-roadrunner-restaurant-saloon-in-new-river/
LOCATION:Roadrunner Restaurant & Saloon\, 47801 N Black Canyon Hwy\, New River\, 85087\, United States
ATTACH;FMTTYPE=image/jpeg:https://scorchedearthhog.com/wp-content/uploads/2025/01/the-road-runner-saloon.jpg
END:VEVENT
BEGIN:VEVENT
DTSTART;TZID=America/Phoenix:20250125T103000
DTEND;TZID=America/Phoenix:20250125T150000
DTSTAMP:20260421T042414
CREATED:20250109T001342Z
LAST-MODIFIED:20250109T001435Z
UID:10000156-1737801000-1737817200@scorchedearthhog.com
SUMMARY:Ride to Roadrunner Restaurant & Saloon in New River
DESCRIPTION:[vc_row][vc_column][vc_column_text css=””] \n\nRoad Captain: Steve Heck\nDeparture Briefing: 1045 hrs\nDeparture Time (KSU): 1100 hrs\nDeparture Point: Legend’s H-D\n\n[/vc_column_text][/vc_column][/vc_row]
URL:https://scorchedearthhog.com/event/ride-to-roadrunner-restaurant-saloon/
LOCATION:Roadrunner Restaurant & Saloon\, 47801 N Black Canyon Hwy\, New River\, 85087\, United States
ATTACH;FMTTYPE=image/jpeg:https://scorchedearthhog.com/wp-content/uploads/2025/01/the-road-runner-saloon.jpg
END:VEVENT
END:VCALENDAR