BEGIN:VCALENDAR
VERSION:2.0
PRODID:-//Scorched Earth H.O.G. Chapter #5486 - ECPv6.15.20//NONSGML v1.0//EN
CALSCALE:GREGORIAN
METHOD:PUBLISH
X-ORIGINAL-URL:https://scorchedearthhog.com
X-WR-CALDESC:Events for Scorched Earth H.O.G. Chapter #5486
REFRESH-INTERVAL;VALUE=DURATION:PT1H
X-Robots-Tag:noindex
X-PUBLISHED-TTL:PT1H
BEGIN:VTIMEZONE
TZID:America/Phoenix
BEGIN:STANDARD
TZOFFSETFROM:-0700
TZOFFSETTO:-0700
TZNAME:MST
DTSTART:20250101T000000
END:STANDARD
END:VTIMEZONE
BEGIN:VEVENT
DTSTART;TZID=America/Phoenix:20260418T100000
DTEND;TZID=America/Phoenix:20260418T150000
DTSTAMP:20260423T031416
CREATED:20260207T123031Z
LAST-MODIFIED:20260415T204748Z
UID:10000623-1776506400-1776524400@scorchedearthhog.com
SUMMARY:Flew the Coop Nashville Hot Chicken Shack
DESCRIPTION:[vc_row][vc_column][vc_column_text css_animation=”fadeIn” css=””] \n\nRoad Captain: Ted Kapner\nDeparture Briefing: 1015 hrs\nDeparture Time (KSU): 1030 hrs\nDeparture Point: Robert’s Market place #2 (Viewpoint Dr. x HWY 89A)\nDistance (est): 55 miles\nTime (est): 55 min\n\n[/vc_column_text][/vc_column][/vc_row]
URL:https://scorchedearthhog.com/event/flew-the-coop-nashville-hot-chicken-shack/
LOCATION:Flew the Coop Nashville Hot Chicken Shack\, 6507 AZ-179\, Sedona\, 86351\, United States
ATTACH;FMTTYPE=image/png:https://scorchedearthhog.com/wp-content/uploads/2026/02/Flew-the-Coop-Nashville-Hot-Chicken-Shack.png
END:VEVENT
END:VCALENDAR