BEGIN:VCALENDAR
VERSION:2.0
PRODID:-//Scorched Earth H.O.G. Chapter #5486 - ECPv6.15.20//NONSGML v1.0//EN
CALSCALE:GREGORIAN
METHOD:PUBLISH
X-ORIGINAL-URL:https://scorchedearthhog.com
X-WR-CALDESC:Events for Scorched Earth H.O.G. Chapter #5486
REFRESH-INTERVAL;VALUE=DURATION:PT1H
X-Robots-Tag:noindex
X-PUBLISHED-TTL:PT1H
BEGIN:VTIMEZONE
TZID:America/Phoenix
BEGIN:STANDARD
TZOFFSETFROM:-0700
TZOFFSETTO:-0700
TZNAME:MST
DTSTART:20250101T000000
END:STANDARD
END:VTIMEZONE
BEGIN:VEVENT
DTSTART;TZID=America/Phoenix:20260513T150000
DTEND;TZID=America/Phoenix:20260513T183000
DTSTAMP:20260423T065342
CREATED:20260420T124004Z
LAST-MODIFIED:20260420T124229Z
UID:10000645-1778684400-1778697000@scorchedearthhog.com
SUMMARY:Run For The Wall Overpass Support
DESCRIPTION:[vc_row][vc_column][vc_column_text css_animation=”fadeIn” css=””]We will meet at the Safeway Parking Lot in Chino Valley and ride up to the County Line Road overpass just East of Ash Fork to wave at the Run For The Wall riders as they pass by on this years Mission. \n\nRoad Captain: Wayne Schwetje\nDeparture Briefing: 1500 hrs\nDeparture Time (KSU): 1515 hrs\nDeparture Point: Safeway Parking Lot Chino Valley (1031 AZ-89)\nDistance (est): 37 miles\nTime (est): 40 min\n\n[/vc_column_text][vc_single_image image=”878″ img_size=”full” alignment=”center”][/vc_column][/vc_row]
URL:https://scorchedearthhog.com/event/run-for-the-wall-overpass-support/
LOCATION:County Line Road Overpass\, County Line Rd Opas\, Ash Fork\, 86046\, United States
ATTACH;FMTTYPE=image/webp:https://scorchedearthhog.com/wp-content/uploads/2026/04/rftw.webp
END:VEVENT
END:VCALENDAR