BEGIN:VCALENDAR
VERSION:2.0
PRODID:-//Scorched Earth H.O.G. Chapter #5486 - ECPv6.15.20//NONSGML v1.0//EN
CALSCALE:GREGORIAN
METHOD:PUBLISH
X-WR-CALNAME:Scorched Earth H.O.G. Chapter #5486
X-ORIGINAL-URL:https://scorchedearthhog.com
X-WR-CALDESC:Events for Scorched Earth H.O.G. Chapter #5486
REFRESH-INTERVAL;VALUE=DURATION:PT1H
X-Robots-Tag:noindex
X-PUBLISHED-TTL:PT1H
BEGIN:VTIMEZONE
TZID:America/Phoenix
BEGIN:STANDARD
TZOFFSETFROM:-0700
TZOFFSETTO:-0700
TZNAME:MST
DTSTART:20250101T000000
END:STANDARD
END:VTIMEZONE
BEGIN:VEVENT
DTSTART;TZID=America/Phoenix:20260426T103000
DTEND;TZID=America/Phoenix:20260426T153000
DTSTAMP:20260421T054306
CREATED:20260130T121545Z
LAST-MODIFIED:20260415T002527Z
UID:10000590-1777199400-1777217400@scorchedearthhog.com
SUMMARY:LOH Ride to Wickenburg - Anita's Cocina
DESCRIPTION:[vc_row][vc_column][vc_column_text css_animation=”fadeIn” css=””] \nThis is a Ladies of Harley Ride\n(Women Only) \nDate change! This ride has been changed to April 26th.\nLadies\, come join us for a lunch ride out to Wickenburg\, to Anita’s Cocina. \n\nRoad Captain: Cathy Novak\nDeparture Briefing: 1030 hrs\nDeparture Time (KSU): 1045 hrs\nDeparture Point: Denny’s Parking Lot at Gail Gardiner & Iron Springs\nDistance (est): 66 miles\nTime (est): 1 hr-25 min\n\n[/vc_column_text][/vc_column][/vc_row]
URL:https://scorchedearthhog.com/event/loh-ride-to-wickenburg-anitas-cocina/
LOCATION:Anita’s Cocina\, 57 N Valentine St\, Wickenburg\, 85390\, United States
CATEGORIES:LOH Ride
ATTACH;FMTTYPE=image/jpeg:https://scorchedearthhog.com/wp-content/uploads/2026/01/loh.jpg
ORGANIZER;CN="Cathy Novak":MAILTO:cathynmbaz@gmail.com
END:VEVENT
END:VCALENDAR