BEGIN:VCALENDAR
VERSION:2.0
PRODID:-//Scorched Earth H.O.G. Chapter #5486 - ECPv6.15.20//NONSGML v1.0//EN
CALSCALE:GREGORIAN
METHOD:PUBLISH
X-ORIGINAL-URL:https://scorchedearthhog.com
X-WR-CALDESC:Events for Scorched Earth H.O.G. Chapter #5486
REFRESH-INTERVAL;VALUE=DURATION:PT1H
X-Robots-Tag:noindex
X-PUBLISHED-TTL:PT1H
BEGIN:VTIMEZONE
TZID:America/Phoenix
BEGIN:STANDARD
TZOFFSETFROM:-0700
TZOFFSETTO:-0700
TZNAME:MST
DTSTART:20250101T000000
END:STANDARD
END:VTIMEZONE
BEGIN:VEVENT
DTSTART;TZID=America/Phoenix:20260607T093000
DTEND;TZID=America/Phoenix:20260607T153000
DTSTAMP:20260421T103801
CREATED:20260130T122629Z
LAST-MODIFIED:20260324T120836Z
UID:10000592-1780824600-1780846200@scorchedearthhog.com
SUMMARY:LOH Ride to Strawberry\, Arizona
DESCRIPTION:[vc_row][vc_column][vc_column_text css_animation=”fadeIn” css=””] \nThis is a Ladies of Harley Ride\n(Women Only) \nLadies come join us for a beautiful ride out to Strawberry. We will stop at the Sportsman’s Chalet for lunch. \n\nRoad Captain: Cathy Novak\nDeparture Briefing: 0945 hrs\nDeparture Time (KSU): 1000 hrs\nDeparture Point: Maverik Gas Station at Fain Rd & Hwy 69\nDistance (est): 67 miles\nTime (est): 1 hr-15 min\n\n[/vc_column_text][/vc_column][/vc_row]
URL:https://scorchedearthhog.com/event/loh-ride-to-strawberry-arizona/
LOCATION:Sportsman’s Chalet\, 5087 AZ-87\, Strawberry\, AZ\, 85544\, United States
CATEGORIES:LOH Ride
ATTACH;FMTTYPE=image/jpeg:https://scorchedearthhog.com/wp-content/uploads/2026/01/loh.jpg
ORGANIZER;CN="Cathy Novak":MAILTO:cathynmbaz@gmail.com
END:VEVENT
END:VCALENDAR