BEGIN:VCALENDAR
VERSION:2.0
PRODID:-//Scorched Earth H.O.G. Chapter #5486 - ECPv6.15.20//NONSGML v1.0//EN
CALSCALE:GREGORIAN
METHOD:PUBLISH
X-WR-CALNAME:Scorched Earth H.O.G. Chapter #5486
X-ORIGINAL-URL:https://scorchedearthhog.com
X-WR-CALDESC:Events for Scorched Earth H.O.G. Chapter #5486
REFRESH-INTERVAL;VALUE=DURATION:PT1H
X-Robots-Tag:noindex
X-PUBLISHED-TTL:PT1H
BEGIN:VTIMEZONE
TZID:America/Phoenix
BEGIN:STANDARD
TZOFFSETFROM:-0700
TZOFFSETTO:-0700
TZNAME:MST
DTSTART:20250101T000000
END:STANDARD
END:VTIMEZONE
BEGIN:VEVENT
DTSTART;TZID=America/Phoenix:20260329T103000
DTEND;TZID=America/Phoenix:20260329T143000
DTSTAMP:20260421T073637
CREATED:20260130T120611Z
LAST-MODIFIED:20260130T120945Z
UID:10000589-1774780200-1774794600@scorchedearthhog.com
SUMMARY:LOH Ride to Seligman
DESCRIPTION:[vc_row][vc_column][vc_column_text css_animation=”fadeIn” css=””] \nThis is a Ladies of Harley Ride\n(Women Only) \nLadies\, come join us for the first official Legend’s Chapter LOH ride! \nWe will ride from the Safeway parking lot in Chino Valley on up to Seligman to the Snowcap for lunch. \n\nRoad Captain: Cathy Novac\nDeparture Briefing: 1045 hrs\nDeparture Time (KSU): 1100 hrs\nDeparture Point: Safeway Parking Lot Chino Valley (1031 AZ-89)\nDistance (est): 60 miles\nTime (est): 1 hr\n\n[/vc_column_text][/vc_column][/vc_row]
URL:https://scorchedearthhog.com/event/loh-ride-to-seligman/
LOCATION:Delgadillo’s Snow Cap\, 301 AZ-66\, Seligman\, 86337\, United States
CATEGORIES:LOH Ride
ATTACH;FMTTYPE=image/jpeg:https://scorchedearthhog.com/wp-content/uploads/2026/01/loh.jpg
ORGANIZER;CN="Cathy Novak":MAILTO:cathynmbaz@gmail.com
END:VEVENT
END:VCALENDAR